View In:
ArcGIS JavaScript
ArcGIS Online Map Viewer
ArcGIS Earth
Service Description: TREES_DBH50CM_HA_V2
Name: TREES_DBH50CM_HA_V2
Description:
Single Fused Map Cache: false
Extent:
XMin: 517023.5000000627
YMin: 6874706.050000008
XMax: 552273.5000000626
YMax: 6936706.050000008
Spatial Reference: 28356
(28356)
LatestVCSWkid(0)
Initial Extent:
XMin: 517023.5000000627
YMin: 6874706.050000008
XMax: 552273.5000000626
YMax: 6936706.050000008
Spatial Reference: 28356
(28356)
LatestVCSWkid(0)
Full Extent:
XMin: 517023.5000000627
YMin: 6874706.050000008
XMax: 552273.5000000626
YMax: 6936706.050000008
Spatial Reference: 28356
(28356)
LatestVCSWkid(0)
Pixel Size X: 49.999999999999915
Pixel Size Y: 50.0
Band Count: 1
Pixel Type: F32
RasterFunction Infos: {"rasterFunctionInfos": [{
"name": "None",
"description": "",
"help": ""
}]}
Mensuration Capabilities: Basic
Inspection Capabilities:
Has Histograms: true
Has Colormap: false
Has Multi Dimensions : false
Rendering Rule:
Min Scale: 0
Max Scale: 0
Copyright Text:
Service Data Type: esriImageServiceDataTypeGeneric
Min Values: 0
Max Values: 200
Mean Values: 29.463960231980117
Standard Deviation Values: 22.00198642602889
Object ID Field:
Fields:
None
Default Mosaic Method: Center
Allowed Mosaic Methods:
SortField:
SortValue: null
Mosaic Operator: First
Default Compression Quality: 75
Default Resampling Method: Bilinear
Max Record Count: null
Max Image Height: 4100
Max Image Width: 15000
Max Download Image Count: null
Max Mosaic Image Count: null
Allow Raster Function: true
Allow Copy: true
Allow Analysis: true
Allow Compute TiePoints: false
Supports Statistics: false
Supports Advanced Queries: false
Use StandardizedQueries: true
Raster Type Infos:
Name: Raster Dataset
Description: Supports all ArcGIS Raster Datasets
Help:
Has Raster Attribute Table: false
Edit Fields Info: null
Ownership Based AccessControl For Rasters: null
Child Resources:
Info
Histograms
Statistics
Key Properties
Legend
Raster Function Infos
Supported Operations:
Export Image
Identify
Measure
Compute Histograms
Compute Statistics Histograms
Get Samples
Compute Class Statistics
Query Boundary
Compute Pixel Location
Compute Angles
Validate
Project