{
 "currentVersion": 11.2,
 "serviceDescription": "TREES_DBH50CM_HA_V2",
 "name": "TREES_DBH50CM_HA_V2",
 "description": "",
 "extent": {
  "xmin": 517023.5000000627,
  "ymin": 6874706.050000008,
  "xmax": 552273.5000000626,
  "ymax": 6936706.050000008,
  "spatialReference": {
   "wkid": 28356,
   "latestWkid": 28356
  }
 },
 "initialExtent": {
  "xmin": 517023.5000000627,
  "ymin": 6874706.050000008,
  "xmax": 552273.5000000626,
  "ymax": 6936706.050000008,
  "spatialReference": {
   "wkid": 28356,
   "latestWkid": 28356
  }
 },
 "fullExtent": {
  "xmin": 517023.5000000627,
  "ymin": 6874706.050000008,
  "xmax": 552273.5000000626,
  "ymax": 6936706.050000008,
  "spatialReference": {
   "wkid": 28356,
   "latestWkid": 28356
  }
 },
 "sortableFields": "",
 "bandCount": 1,
 "pixelType": "F32",
 "minValues": [
  0
 ],
 "maxValues": [
  200
 ],
 "meanValues": [
  29.463960231980117
 ],
 "stdvValues": [
  22.00198642602889
 ],
 "hasMultidimensions": false,
 "pixelSizeX": 49.999999999999915,
 "pixelSizeY": 50,
 "meanPixelSize": 49.99999999999996,
 "datasetFormat": "FGDBR",
 "uncompressedSize": 3496800,
 "blockWidth": 128,
 "blockHeight": 128,
 "compressionType": "NONE",
 "bandNames": [
  "Band_1"
 ],
 "allowCopy": true,
 "allowAnalysis": true,
 "itemAccess": false,
 "inspectionCapabilities": "",
 "minPixelSize": 0,
 "maxPixelSize": 0,
 "copyrightText": "",
 "serviceDataType": "esriImageServiceDataTypeGeneric",
 "serviceSourceType": "esriImageServiceSourceTypeDataset",
 "objectIdField": "",
 "fields": [],
 "capabilities": "Image,Metadata,Mensuration",
 "defaultMosaicMethod": "Center",
 "allowedMosaicMethods": "",
 "sortField": "",
 "sortValue": null,
 "sortAscending": true,
 "mosaicOperator": "First",
 "defaultCompressionQuality": 75,
 "defaultResamplingMethod": "Bilinear",
 "maxImageHeight": 4100,
 "maxImageWidth": 15000,
 "allowRasterFunction": true,
 "rasterFunctionInfos": [
  {
   "name": "None",
   "description": "",
   "help": ""
  }
 ],
 "rasterTypeInfos": [
  {
   "name": "Raster Dataset",
   "description": "Supports all ArcGIS Raster Datasets",
   "help": ""
  }
 ],
 "mensurationCapabilities": "Basic",
 "hasHistograms": true,
 "hasColormap": false,
 "hasRasterAttributeTable": false,
 "minScale": 0,
 "maxScale": 0,
 "exportTilesAllowed": false,
 "supportsStatistics": false,
 "supportsAdvancedQueries": false,
 "editFieldsInfo": null,
 "ownershipBasedAccessControlForRasters": null,
 "allowComputeTiePoints": false,
 "useStandardizedQueries": true,
 "advancedQueryCapabilities": {
  "useStandardizedQueries": true,
  "supportsStatistics": false,
  "supportsOrderBy": false,
  "supportsDistinct": false,
  "supportsPagination": false
 },
 "spatialReference": {
  "wkid": 28356,
  "latestWkid": 28356
 }
}
