View In:
ArcGIS JavaScript
ArcGIS Online Map Viewer
ArcGIS Earth
Service Description: LIDAR_METRICS_V2
Name: LIDAR_METRICS_V2
Description:
Single Fused Map Cache: false
Extent:
XMin: 517000.0
YMin: 6874500.0
XMax: 552500.0
YMax: 6937020.0
Spatial Reference: 28356
(28356)
LatestVCSWkid(0)
Initial Extent:
XMin: 517000.0
YMin: 6874500.0
XMax: 552500.0
YMax: 6937020.0
Spatial Reference: 28356
(28356)
LatestVCSWkid(0)
Full Extent:
XMin: 517000.0
YMin: 6874500.0
XMax: 552500.0
YMax: 6937020.0
Spatial Reference: 28356
(28356)
LatestVCSWkid(0)
Pixel Size X: 20.0
Pixel Size Y: 20.0
Band Count: 25
Pixel Type: F32
RasterFunction Infos: {"rasterFunctionInfos": [{
"name": "None",
"description": "",
"help": ""
}]}
Mensuration Capabilities: Basic
Inspection Capabilities:
Has Histograms: true
Has Colormap: false
Has Multi Dimensions : false
Rendering Rule:
Min Scale: 0
Max Scale: 0
Copyright Text:
Service Data Type: esriImageServiceDataTypeGeneric
Min Values: 1, 0, 0, 0, 0, -13.521875381469727, 1, 0, 0, 0, 0, 0, 0, 0, 0, 0, 0, 0, 0, 0, 0, 0, 0, 0, 0
Max Values: 310349, 61.48625183105469, 79.98999786376953, 27.050874710083008, 22.07242774963379, 174.56472778320312, 37396.90625, 59.81800079345703, 60.66999816894531, 61.8849983215332, 73.30999755859375, 78.43900299072266, 1, 1, 1, 1, 1, 1, 1, 1, 1, 1, 1, 1, 1
Mean Values: 51242.11353461348, 10.002290340307951, 24.318212473586456, 6.538225524168896, 1.0504798525434362, 0.8769235550594429, 16.111114372156297, 1.3300335471280254, 4.437365047585684, 10.21688125251991, 15.019870259912828, 18.339573564856934, 0.6692340109329985, 0.6164828044648701, 0.5450228751865039, 0.4302872446434061, 0.19978670051460523, 0.04749951020939344, 0.006439914592424317, 0.05275120646842832, 0.0714599292800238, 0.11473563054222118, 0.23050054412730772, 0.15228719030201832, 0.04105959561890939
Standard Deviation Values: 31840.062586373366, 7.460479002699458, 12.135680971562733, 3.550113973526195, 0.8949150892281479, 3.2113398014852605, 219.11962670262903, 3.2118997764985773, 6.0509567951477345, 8.785495765384335, 10.40207282438713, 11.180031912291422, 0.2992184293359236, 0.3098756585818544, 0.3190106796227192, 0.30842003220379116, 0.23689180302282406, 0.12159778679812165, 0.0384394923990623, 0.07201618772255433, 0.07502359227706805, 0.09864028240602125, 0.17744534525802574, 0.16821726214383348, 0.10017961610147869
Object ID Field:
Fields:
None
Default Mosaic Method: Center
Allowed Mosaic Methods:
SortField:
SortValue: null
Mosaic Operator: First
Default Compression Quality: 75
Default Resampling Method: Bilinear
Max Record Count: null
Max Image Height: 4100
Max Image Width: 15000
Max Download Image Count: null
Max Mosaic Image Count: null
Allow Raster Function: true
Allow Copy: true
Allow Analysis: true
Allow Compute TiePoints: false
Supports Statistics: false
Supports Advanced Queries: false
Use StandardizedQueries: true
Raster Type Infos:
Name: Raster Dataset
Description: Supports all ArcGIS Raster Datasets
Help:
Has Raster Attribute Table: false
Edit Fields Info: null
Ownership Based AccessControl For Rasters: null
Child Resources:
Info
Histograms
Statistics
Key Properties
Legend
Raster Function Infos
Supported Operations:
Export Image
Identify
Measure
Compute Histograms
Compute Statistics Histograms
Get Samples
Compute Class Statistics
Query Boundary
Compute Pixel Location
Compute Angles
Validate
Project