{
 "currentVersion": 11.2,
 "serviceDescription": "LIDAR_METRICS_V2",
 "name": "LIDAR_METRICS_V2",
 "description": "",
 "extent": {
  "xmin": 517000,
  "ymin": 6874500,
  "xmax": 552500,
  "ymax": 6937020,
  "spatialReference": {
   "wkid": 28356,
   "latestWkid": 28356
  }
 },
 "initialExtent": {
  "xmin": 517000,
  "ymin": 6874500,
  "xmax": 552500,
  "ymax": 6937020,
  "spatialReference": {
   "wkid": 28356,
   "latestWkid": 28356
  }
 },
 "fullExtent": {
  "xmin": 517000,
  "ymin": 6874500,
  "xmax": 552500,
  "ymax": 6937020,
  "spatialReference": {
   "wkid": 28356,
   "latestWkid": 28356
  }
 },
 "sortableFields": "",
 "bandCount": 25,
 "pixelType": "F32",
 "minValues": [
  1,
  0,
  0,
  0,
  0,
  -13.521875381469727,
  1,
  0,
  0,
  0,
  0,
  0,
  0,
  0,
  0,
  0,
  0,
  0,
  0,
  0,
  0,
  0,
  0,
  0,
  0
 ],
 "maxValues": [
  310349,
  61.48625183105469,
  79.98999786376953,
  27.050874710083008,
  22.07242774963379,
  174.56472778320312,
  37396.90625,
  59.81800079345703,
  60.66999816894531,
  61.8849983215332,
  73.30999755859375,
  78.43900299072266,
  1,
  1,
  1,
  1,
  1,
  1,
  1,
  1,
  1,
  1,
  1,
  1,
  1
 ],
 "meanValues": [
  51242.11353461348,
  10.002290340307951,
  24.318212473586456,
  6.538225524168896,
  1.0504798525434362,
  0.8769235550594429,
  16.111114372156297,
  1.3300335471280254,
  4.437365047585684,
  10.21688125251991,
  15.019870259912828,
  18.339573564856934,
  0.6692340109329985,
  0.6164828044648701,
  0.5450228751865039,
  0.4302872446434061,
  0.19978670051460523,
  0.04749951020939344,
  0.006439914592424317,
  0.05275120646842832,
  0.0714599292800238,
  0.11473563054222118,
  0.23050054412730772,
  0.15228719030201832,
  0.04105959561890939
 ],
 "stdvValues": [
  31840.062586373366,
  7.460479002699458,
  12.135680971562733,
  3.550113973526195,
  0.8949150892281479,
  3.2113398014852605,
  219.11962670262903,
  3.2118997764985773,
  6.0509567951477345,
  8.785495765384335,
  10.40207282438713,
  11.180031912291422,
  0.2992184293359236,
  0.3098756585818544,
  0.3190106796227192,
  0.30842003220379116,
  0.23689180302282406,
  0.12159778679812165,
  0.0384394923990623,
  0.07201618772255433,
  0.07502359227706805,
  0.09864028240602125,
  0.17744534525802574,
  0.16821726214383348,
  0.10017961610147869
 ],
 "hasMultidimensions": false,
 "pixelSizeX": 20,
 "pixelSizeY": 20,
 "meanPixelSize": 20,
 "datasetFormat": "FGDBR",
 "uncompressedSize": 554865000,
 "blockWidth": 128,
 "blockHeight": 128,
 "compressionType": "NONE",
 "bandNames": [
  "Band_1",
  "Band_2",
  "Band_3",
  "Band_4",
  "Band_5",
  "Band_6",
  "Band_7",
  "Band_8",
  "Band_9",
  "Band_10",
  "Band_11",
  "Band_12",
  "Band_13",
  "Band_14",
  "Band_15",
  "Band_16",
  "Band_17",
  "Band_18",
  "Band_19",
  "Band_20",
  "Band_21",
  "Band_22",
  "Band_23",
  "Band_24",
  "Band_25"
 ],
 "allowCopy": true,
 "allowAnalysis": true,
 "itemAccess": false,
 "inspectionCapabilities": "",
 "minPixelSize": 0,
 "maxPixelSize": 0,
 "copyrightText": "",
 "serviceDataType": "esriImageServiceDataTypeGeneric",
 "serviceSourceType": "esriImageServiceSourceTypeDataset",
 "objectIdField": "",
 "fields": [],
 "capabilities": "Image,Metadata,Mensuration",
 "defaultMosaicMethod": "Center",
 "allowedMosaicMethods": "",
 "sortField": "",
 "sortValue": null,
 "sortAscending": true,
 "mosaicOperator": "First",
 "defaultCompressionQuality": 75,
 "defaultResamplingMethod": "Bilinear",
 "maxImageHeight": 4100,
 "maxImageWidth": 15000,
 "allowRasterFunction": true,
 "rasterFunctionInfos": [
  {
   "name": "None",
   "description": "",
   "help": ""
  }
 ],
 "rasterTypeInfos": [
  {
   "name": "Raster Dataset",
   "description": "Supports all ArcGIS Raster Datasets",
   "help": ""
  }
 ],
 "mensurationCapabilities": "Basic",
 "hasHistograms": true,
 "hasColormap": false,
 "hasRasterAttributeTable": false,
 "minScale": 0,
 "maxScale": 0,
 "exportTilesAllowed": false,
 "supportsStatistics": false,
 "supportsAdvancedQueries": false,
 "editFieldsInfo": null,
 "ownershipBasedAccessControlForRasters": null,
 "allowComputeTiePoints": false,
 "useStandardizedQueries": true,
 "advancedQueryCapabilities": {
  "useStandardizedQueries": true,
  "supportsStatistics": false,
  "supportsOrderBy": false,
  "supportsDistinct": false,
  "supportsPagination": false
 },
 "spatialReference": {
  "wkid": 28356,
  "latestWkid": 28356
 }
}
