View In:
ArcGIS JavaScript
ArcGIS Online Map Viewer
ArcGIS Earth
Service Description: Image_Service/Flood_Risk_Overlay_2026
Name: Image_Service/Flood_Risk_Overlay_2026
Description:
Single Fused Map Cache: false
Extent:
XMin: 516638.00000000093
YMin: 6874229.000000002
XMax: 553849.0000000009
YMax: 6937067.000000002
Spatial Reference: 28356
(28356)
LatestVCSWkid(0)
Initial Extent:
XMin: 516638.00000000093
YMin: 6874229.000000002
XMax: 553849.0000000009
YMax: 6937067.000000002
Spatial Reference: 28356
(28356)
LatestVCSWkid(0)
Full Extent:
XMin: 516638.00000000093
YMin: 6874229.000000002
XMax: 553849.0000000009
YMax: 6937067.000000002
Spatial Reference: 28356
(28356)
LatestVCSWkid(0)
Pixel Size X: 1.0
Pixel Size Y: 1.0
Band Count: 1
Pixel Type: U4
RasterFunction Infos: {"rasterFunctionInfos": [{
"name": "None",
"description": "",
"help": ""
}]}
Mensuration Capabilities: Basic
Inspection Capabilities:
Has Histograms: true
Has Colormap: false
Has Multi Dimensions : false
Rendering Rule:
Min Scale: 0
Max Scale: 0
Copyright Text:
Service Data Type: esriImageServiceDataTypeGeneric
Min Values: 1
Max Values: 5
Mean Values: 2.351672904665315
Standard Deviation Values: 1.6478493273375951
Object ID Field:
Fields:
None
Default Mosaic Method: Center
Allowed Mosaic Methods:
SortField:
SortValue: null
Mosaic Operator: First
Default Compression Quality: 75
Default Resampling Method: Bilinear
Max Record Count: null
Max Image Height: 4100
Max Image Width: 15000
Max Download Image Count: null
Max Mosaic Image Count: null
Allow Raster Function: true
Allow Copy: true
Allow Analysis: true
Allow Compute TiePoints: false
Supports Statistics: false
Supports Advanced Queries: false
Use StandardizedQueries: true
Raster Type Infos:
Name: Raster Dataset
Description: Supports all ArcGIS Raster Datasets
Help:
Has Raster Attribute Table: true
Edit Fields Info: null
Ownership Based AccessControl For Rasters: null
Child Resources:
Info
Raster Attribute Table
Histograms
Statistics
Key Properties
Legend
Raster Function Infos
Supported Operations:
Export Image
Identify
Measure
Compute Histograms
Compute Statistics Histograms
Get Samples
Compute Class Statistics
Query Boundary
Compute Pixel Location
Compute Angles
Validate
Project