<?xml version="1.0" encoding="UTF-8" standalone="no"?>
<metadata xml:lang="en">
<Esri>
<CreaDate>20240923</CreaDate>
<CreaTime>07384900</CreaTime>
<ArcGISFormat>1.0</ArcGISFormat>
<SyncOnce>FALSE</SyncOnce>
<DataProperties>
<lineage>
<Process Date="20240923" Name="Hillshade" Time="073849" ToolSource="c:\program files\arcgis\pro\Resources\ArcToolbox\toolboxes\Spatial Analyst Tools.tbx\HillShade">HillShade H:\COGC_LiDAR_2022\TERRAIN_LIDAR_2022\TERRAIN_LiDAR_2022.gdb\DEM_2022_1M H:\COGC_LiDAR_2022\TERRAIN_LIDAR_2022\TERRAIN_LiDAR_2022.gdb\HILLSHADE_2022_1M 315 45 NO_SHADOWS 1</Process>
<Process Date="20241118" Time="090136" ToolSource="c:\program files (x86)\arcgis\desktop10.7\ArcToolbox\Toolboxes\Data Management Tools.tbx\BuildPyramids">BuildPyramids "C:\Users\fjwainrightl\AppData\Roaming\ESRI\Desktop10.7\ArcCatalog\01 DEV - DG1 gis_data.sde\GIS_DATA.GEO_LFM_HILLSHADE_DEM_2022_1M" -1 NONE BILINEAR DEFAULT 75 OVERWRITE</Process>
<Process Date="20250930" Time="104409" ToolSource="c:\program files\arcgis\pro\Resources\ArcToolbox\Toolboxes\Data Management Tools.tbx\CopyMultiple">CopyMultiple "'c:\temp\New File Geodatabase (1).gdb\GEO_LFM_HILLSHADE_DEM_2022_1M' RasterDataset;'c:\temp\New File Geodatabase (1).gdb\GEO_LFM_GOLDCOASTDTM_2M' RasterDataset" C:\Users\fjwainrightl\AppData\Local\Temp\2\ArcGISProTemp12268\50e9845a-a9d2-46a8-be2d-fdf55bf507cd\azwpunmsql1.sde GEO_LFM_HILLSHADE_DEM_2022_1M;GEO_LFM_GOLDCOASTDTM_2M "GEO_LFM_HILLSHADE_DEM_2022_1M RasterDataset GIS_DATA.GEO_LFM_HILLSHADE_DEM_2022_1M #;GEO_LFM_GOLDCOASTDTM_2M RasterDataset GIS_DATA.GEO_LFM_GOLDCOASTDTM_2M #"</Process>
<Process Date="20260616" Time="123438" ToolSource="c:\program files\arcgis\pro\Resources\ArcToolbox\Toolboxes\Data Management Tools.tbx\CopyMultiple">CopyMultiple "C:\Users\42623\AppData\Roaming\Esri\ArcGISPro\Favorites\SQLServer-AZWPUNMSQL1-PG1(GIS_DATA).sde\GIS_DATA.GEO_LFM_HILLSHADE_DEM_2022_1M RasterDataset" \\cogcpaeunmfs1.file.core.windows.net\Unmprodfs3\Data\CoGC_Hillshade\Hillshade.gdb GEO_LFM_HILLSHADE_DEM_2022_1M "GIS_DATA.GEO_LFM_HILLSHADE_DEM_2022_1M RasterDataset GEO_LFM_HILLSHADE_DEM_2022_1M #"</Process>
<Process Date="20260616" Time="124110" ToolSource="c:\program files\arcgis\pro\Resources\ArcToolbox\Toolboxes\Data Management Tools.tbx\Rename">Rename \\cogcpaeunmfs1.file.core.windows.net\Unmprodfs3\Data\CoGC_Hillshade\Hillshade.gdb\GEO_LFM_HILLSHADE_DEM_2022_1M \\cogcpaeunmfs1.file.core.windows.net\Unmprodfs3\Data\CoGC_Hillshade\Hillshade.gdb\HILLSHADE_1M RasterDataset</Process>
</lineage>
<itemProps>
<itemName Sync="TRUE">GIS_DATA.GEO_LFM_HILLSHADE_DEM_2022_1M</itemName>
<imsContentType Sync="TRUE">002</imsContentType>
<nativeExtBox>
<westBL Sync="TRUE">515500.000000</westBL>
<eastBL Sync="TRUE">555500.000000</eastBL>
<southBL Sync="TRUE">6871999.780000</southBL>
<northBL Sync="TRUE">6938499.780000</northBL>
<exTypeCode Sync="TRUE">1</exTypeCode>
</nativeExtBox>
<itemLocation>
<linkage Sync="TRUE">Server=MSVGSDD1; Service=sde:oracle$MSVGSDD1/DG1; User=GIS_DATA; Version=SDE.DEFAULT</linkage>
<protocol Sync="TRUE">ArcSDE Connection</protocol>
</itemLocation>
</itemProps>
<coordRef>
<type Sync="TRUE">Projected</type>
<geogcsn Sync="TRUE">GCS_GDA_1994</geogcsn>
<csUnits Sync="TRUE">Linear Unit: Meter (1.000000)</csUnits>
<projcsn Sync="TRUE">GDA_1994_MGA_Zone_56</projcsn>
<peXml Sync="TRUE">&lt;ProjectedCoordinateSystem xsi:type='typens:ProjectedCoordinateSystem' xmlns:xsi='http://www.w3.org/2001/XMLSchema-instance' xmlns:xs='http://www.w3.org/2001/XMLSchema' xmlns:typens='http://www.esri.com/schemas/ArcGIS/10.7'&gt;&lt;WKT&gt;PROJCS[&amp;quot;GDA_1994_MGA_Zone_56&amp;quot;,GEOGCS[&amp;quot;GCS_GDA_1994&amp;quot;,DATUM[&amp;quot;D_GDA_1994&amp;quot;,SPHEROID[&amp;quot;GRS_1980&amp;quot;,6378137.0,298.257222101]],PRIMEM[&amp;quot;Greenwich&amp;quot;,0.0],UNIT[&amp;quot;Degree&amp;quot;,0.0174532925199433]],PROJECTION[&amp;quot;Transverse_Mercator&amp;quot;],PARAMETER[&amp;quot;False_Easting&amp;quot;,500000.0],PARAMETER[&amp;quot;False_Northing&amp;quot;,10000000.0],PARAMETER[&amp;quot;Central_Meridian&amp;quot;,153.0],PARAMETER[&amp;quot;Scale_Factor&amp;quot;,0.9996],PARAMETER[&amp;quot;Latitude_Of_Origin&amp;quot;,0.0],UNIT[&amp;quot;Meter&amp;quot;,1.0],AUTHORITY[&amp;quot;EPSG&amp;quot;,28356]]&lt;/WKT&gt;&lt;XOrigin&gt;-5120900&lt;/XOrigin&gt;&lt;YOrigin&gt;1900&lt;/YOrigin&gt;&lt;XYScale&gt;450445547.3910538&lt;/XYScale&gt;&lt;ZOrigin&gt;-100000&lt;/ZOrigin&gt;&lt;ZScale&gt;10000&lt;/ZScale&gt;&lt;MOrigin&gt;-100000&lt;/MOrigin&gt;&lt;MScale&gt;10000&lt;/MScale&gt;&lt;XYTolerance&gt;0.001&lt;/XYTolerance&gt;&lt;ZTolerance&gt;0.001&lt;/ZTolerance&gt;&lt;MTolerance&gt;0.001&lt;/MTolerance&gt;&lt;HighPrecision&gt;true&lt;/HighPrecision&gt;&lt;WKID&gt;28356&lt;/WKID&gt;&lt;LatestWKID&gt;28356&lt;/LatestWKID&gt;&lt;/ProjectedCoordinateSystem&gt;</peXml>
</coordRef>
</DataProperties>
<SyncDate>20241118</SyncDate>
<SyncTime>13065400</SyncTime>
<ModDate>20241118</ModDate>
<ModTime>13065400</ModTime>
</Esri>
<dataIdInfo>
<envirDesc Sync="TRUE"> Version 6.2 (Build 9200) ; Esri ArcGIS 10.7.1.11595</envirDesc>
<dataLang>
<languageCode Sync="TRUE" value="eng"/>
<countryCode Sync="TRUE" value="AUS"/>
</dataLang>
<idCitation>
<resTitle Sync="TRUE">HILLSHADE_1M</resTitle>
<presForm>
<PresFormCd Sync="TRUE" value="011"/>
</presForm>
</idCitation>
<spatRpType>
<SpatRepTypCd Sync="TRUE" value="002"/>
</spatRpType>
<dataExt>
<geoEle>
<GeoBndBox esriExtentType="search">
<exTypeCode Sync="TRUE">1</exTypeCode>
<westBL Sync="TRUE">153.157179</westBL>
<eastBL Sync="TRUE">153.565917</eastBL>
<northBL Sync="TRUE">-27.676556</northBL>
<southBL Sync="TRUE">-28.277924</southBL>
</GeoBndBox>
</geoEle>
</dataExt>
<idAbs/>
<searchKeys>
<keyword>GIS_DATA_GEO_LFM_HILLSHADE_DEM_2022_1M</keyword>
</searchKeys>
<idPurp>This hill-shade layer was created rom 2022 lidar data.</idPurp>
<idCredit/>
<resConst>
<Consts>
<useLimit/>
</Consts>
</resConst>
</dataIdInfo>
<mdLang>
<languageCode Sync="TRUE" value="eng"/>
<countryCode Sync="TRUE" value="AUS"/>
</mdLang>
<distInfo>
<distFormat>
<formatName Sync="TRUE">SDE Raster Dataset</formatName>
</distFormat>
</distInfo>
<mdHrLv>
<ScopeCd Sync="TRUE" value="005"/>
</mdHrLv>
<mdHrLvName Sync="TRUE">dataset</mdHrLvName>
<refSysInfo>
<RefSystem>
<refSysID>
<identCode Sync="TRUE" code="28356"/>
<idCodeSpace Sync="TRUE">EPSG</idCodeSpace>
<idVersion Sync="TRUE">2.1(3.0.1)</idVersion>
</refSysID>
</RefSystem>
</refSysInfo>
<spdoinfo>
<rastinfo>
<rasttype Sync="TRUE">Pixel</rasttype>
<rowcount Sync="TRUE">66500</rowcount>
<colcount Sync="TRUE">40000</colcount>
<rastxsz Sync="TRUE">1.000000</rastxsz>
<rastysz Sync="TRUE">1.000000</rastysz>
<rastbpp Sync="TRUE">8</rastbpp>
<vrtcount Sync="TRUE">1</vrtcount>
<rastorig Sync="TRUE">Upper Left</rastorig>
<rastcmap Sync="TRUE">FALSE</rastcmap>
<rastcomp Sync="TRUE">LZ77</rastcomp>
<rastband Sync="TRUE">1</rastband>
<rastdtyp Sync="TRUE">pixel codes</rastdtyp>
<rastifor Sync="TRUE">SDR</rastifor>
<rastplyr Sync="TRUE">TRUE</rastplyr>
</rastinfo>
</spdoinfo>
<spref>
<horizsys>
<planar>
<planci>
<plance Sync="TRUE">row and column</plance>
<coordrep>
<absres Sync="TRUE">1.000000</absres>
<ordres Sync="TRUE">1.000000</ordres>
</coordrep>
</planci>
</planar>
</horizsys>
</spref>
<eainfo>
<detailed Name="GIS_DATA.SDE_VAT_91">
<enttyp>
<enttypl Sync="TRUE">GIS_DATA.SDE_VAT_91</enttypl>
<enttypt Sync="TRUE">Table</enttypt>
<enttypc Sync="TRUE">255</enttypc>
</enttyp>
<attr>
<attrlabl Sync="TRUE">OBJECTID</attrlabl>
<attalias Sync="TRUE">OBJECTID</attalias>
<attrtype Sync="TRUE">OID</attrtype>
<attwidth Sync="TRUE">4</attwidth>
<atprecis Sync="TRUE">10</atprecis>
<attscale Sync="TRUE">0</attscale>
<attrdef Sync="TRUE">Internal feature number.</attrdef>
<attrdefs Sync="TRUE">Esri</attrdefs>
<attrdomv>
<udom Sync="TRUE">Sequential unique whole numbers that are automatically generated.</udom>
</attrdomv>
</attr>
<attr>
<attrlabl Sync="TRUE">VALUE</attrlabl>
<attalias Sync="TRUE">VALUE</attalias>
<attrtype Sync="TRUE">Integer</attrtype>
<attwidth Sync="TRUE">4</attwidth>
<atprecis Sync="TRUE">10</atprecis>
<attscale Sync="TRUE">0</attscale>
</attr>
<attr>
<attrlabl Sync="TRUE">COUNT</attrlabl>
<attalias Sync="TRUE">COUNT</attalias>
<attrtype Sync="TRUE">Double</attrtype>
<attwidth Sync="TRUE">8</attwidth>
<atprecis Sync="TRUE">38</atprecis>
<attscale Sync="TRUE">8</attscale>
</attr>
</detailed>
</eainfo>
<mdDateSt Sync="TRUE">20241118</mdDateSt>
</metadata>
